BEGIN:VCALENDAR
VERSION:2.0
PRODID:icalendar-ruby
CALSCALE:GREGORIAN
METHOD:PUBLISH
BEGIN:VEVENT
DTSTAMP:20260422T130539Z
UID:39-596021@myglconline.com
DTSTART:20261025T140000Z
DTEND:20261025T150000Z
CLASS:PUBLIC
CREATED:20260422T072742
DESCRIPTION:Sunday Service
LAST-MODIFIED:20260422T072742
LOCATION:
SUMMARY:Sunday Service
URL;VALUE=URI:https://www.myglconline.com/events/sunday-service/2026-10-25
END:VEVENT
END:VCALENDAR
