BEGIN:VCALENDAR
VERSION:2.0
PRODID:icalendar-ruby
CALSCALE:GREGORIAN
METHOD:PUBLISH
BEGIN:VEVENT
DTSTAMP:20260422T095412Z
UID:39-595611@myglconline.com
DTSTART:20261011T140000Z
DTEND:20261011T150000Z
CLASS:PUBLIC
CREATED:20260421T202608
DESCRIPTION:Sunday Service
LAST-MODIFIED:20260421T202608
LOCATION:
SUMMARY:Sunday Service
URL;VALUE=URI:https://www.myglconline.com/events/sunday-service/2026-10-11
END:VEVENT
END:VCALENDAR
