BEGIN:VCALENDAR
VERSION:2.0
PRODID:icalendar-ruby
CALSCALE:GREGORIAN
METHOD:PUBLISH
BEGIN:VEVENT
DTSTAMP:20260422T081738Z
UID:39-595610@myglconline.com
DTSTART:20261004T140000Z
DTEND:20261004T150000Z
CLASS:PUBLIC
CREATED:20260421T202608
DESCRIPTION:Sunday Service
LAST-MODIFIED:20260421T202608
LOCATION:
SUMMARY:Sunday Service
URL;VALUE=URI:https://www.myglconline.com/events/sunday-service/2026-10-04
END:VEVENT
END:VCALENDAR
