BEGIN:VCALENDAR
VERSION:2.0
PRODID:icalendar-ruby
CALSCALE:GREGORIAN
METHOD:PUBLISH
BEGIN:VEVENT
DTSTAMP:20260421T233638Z
UID:39-595197@myglconline.com
DTSTART:20260830T140000Z
DTEND:20260830T150000Z
CLASS:PUBLIC
CREATED:20260421T174722
DESCRIPTION:Sunday Service
LAST-MODIFIED:20260421T174722
LOCATION:
SUMMARY:Sunday Service
URL;VALUE=URI:https://www.myglconline.com/events/sunday-service/2026-08-30
END:VEVENT
END:VCALENDAR
